BEGIN:VCALENDAR
VERSION:2.0
PRODID:-//walk4future® - REthink Fashion! - ECPv6.15.20//NONSGML v1.0//EN
CALSCALE:GREGORIAN
METHOD:PUBLISH
X-ORIGINAL-URL:https://walk4future.com
X-WR-CALDESC:Events for walk4future® - REthink Fashion!
REFRESH-INTERVAL;VALUE=DURATION:PT1H
X-Robots-Tag:noindex
X-PUBLISHED-TTL:PT1H
BEGIN:VTIMEZONE
TZID:Europe/Vienna
BEGIN:DAYLIGHT
TZOFFSETFROM:+0100
TZOFFSETTO:+0200
TZNAME:CEST
DTSTART:20250330T010000
END:DAYLIGHT
BEGIN:STANDARD
TZOFFSETFROM:+0200
TZOFFSETTO:+0100
TZNAME:CET
DTSTART:20251026T010000
END:STANDARD
BEGIN:DAYLIGHT
TZOFFSETFROM:+0100
TZOFFSETTO:+0200
TZNAME:CEST
DTSTART:20260329T010000
END:DAYLIGHT
BEGIN:STANDARD
TZOFFSETFROM:+0200
TZOFFSETTO:+0100
TZNAME:CET
DTSTART:20261025T010000
END:STANDARD
BEGIN:DAYLIGHT
TZOFFSETFROM:+0100
TZOFFSETTO:+0200
TZNAME:CEST
DTSTART:20270328T010000
END:DAYLIGHT
BEGIN:STANDARD
TZOFFSETFROM:+0200
TZOFFSETTO:+0100
TZNAME:CET
DTSTART:20271031T010000
END:STANDARD
END:VTIMEZONE
BEGIN:VEVENT
DTSTART;TZID=Europe/Vienna:20260425T140000
DTEND;TZID=Europe/Vienna:20260425T160000
DTSTAMP:20260425T011615
CREATED:20260324T153916Z
LAST-MODIFIED:20260424T133806Z
UID:9777-1777125600-1777132800@walk4future.com
SUMMARY:Your Style as Success Factor - Three Steps to Greater Impact
DESCRIPTION:Three perspectives. One shared goal: impact. \n\nMartina Gleissenebner-Teskey \, known to many as the first finalist over 50 in Germany’s Next Topmodel\, brings 30 years of experience as trainer\, coach and author in personal branding and charisma—the art of consciously shaping presence.\nAngela Fabel represents a new approach to style: individual\, transformative\, and sustainable.\nThe Conscious Fashion Store provides the curated setting—a place where fashion\, attitude\, and aesthetics converge.\n\nIn this workshop\, you’ll receive concrete inspiration and practical approaches for harmonizing personality\, style\, and sustainability—for a presence that not only impresses but also creates meaning: \n\nthe method and first steps of personal style creation\npersonal feedback to your own style\n\nTiming:\n\n2pm – 4pm: Workshop\nfrom 4pm: get together and individual tipps and conversation\n\nBring something to take notes! \nParticipants will have the possibility tp pre-order a signed copy of the 30-year-edition of the “Charisma Concept” at a preferential price of €5\,- \n  \nCost: \n\nRegular Price: €25\,-\nwalk&change Challenge participants: €20\,-\n\n 
URL:https://walk4future.com/event/your-style-as-success-factor-three-steps-to-greater-impact/
LOCATION:Conscious Fashion Store\, Alte Potsdamer Straße 7\, Berlin\, 10785\, Germany
CATEGORIES:Walk'n Shop Tours,Workshop
ATTACH;FMTTYPE=image/png:https://walk4future.com/wp-content/uploads/2026/03/Stil-als-Erfolgsfaktor.png
ORGANIZER;CN="The Personality Institute by Martina Gleissenebner-Teskey e.U.":MAILTO:admin@martina-gleissenebner-teskey.com
END:VEVENT
END:VCALENDAR