BEGIN:VCALENDAR
VERSION:2.0
PRODID:-//walk4future® - REthink Fashion! - ECPv6.15.20//NONSGML v1.0//EN
CALSCALE:GREGORIAN
METHOD:PUBLISH
X-ORIGINAL-URL:https://walk4future.com
X-WR-CALDESC:Events for walk4future® - REthink Fashion!
REFRESH-INTERVAL;VALUE=DURATION:PT1H
X-Robots-Tag:noindex
X-PUBLISHED-TTL:PT1H
BEGIN:VTIMEZONE
TZID:Europe/Vienna
BEGIN:DAYLIGHT
TZOFFSETFROM:+0100
TZOFFSETTO:+0200
TZNAME:CEST
DTSTART:20250330T010000
END:DAYLIGHT
BEGIN:STANDARD
TZOFFSETFROM:+0200
TZOFFSETTO:+0100
TZNAME:CET
DTSTART:20251026T010000
END:STANDARD
BEGIN:DAYLIGHT
TZOFFSETFROM:+0100
TZOFFSETTO:+0200
TZNAME:CEST
DTSTART:20260329T010000
END:DAYLIGHT
BEGIN:STANDARD
TZOFFSETFROM:+0200
TZOFFSETTO:+0100
TZNAME:CET
DTSTART:20261025T010000
END:STANDARD
BEGIN:DAYLIGHT
TZOFFSETFROM:+0100
TZOFFSETTO:+0200
TZNAME:CEST
DTSTART:20270328T010000
END:DAYLIGHT
BEGIN:STANDARD
TZOFFSETFROM:+0200
TZOFFSETTO:+0100
TZNAME:CET
DTSTART:20271031T010000
END:STANDARD
END:VTIMEZONE
BEGIN:VEVENT
DTSTART;VALUE=DATE:20260427
DTEND;VALUE=DATE:20260428
DTSTAMP:20260425T053800
CREATED:20251211T152123Z
LAST-MODIFIED:20260403T123957Z
UID:8898-1777248000-1777334399@walk4future.com
SUMMARY:Intl. Walking Day
DESCRIPTION:In course of the launch of the UN-Decade of Sustainable Transport\, this inititaive\, dedicated to walking\, has been presented by representatives of the Austrian Government and has been accepted. There will be many initiatives in Austria around this day and hopefully beyond. \nCheck out: Österreich zu Fuß for more Info.
URL:https://walk4future.com/event/intl-walking-day/
CATEGORIES:Community Walking,Intl. Events
END:VEVENT
END:VCALENDAR