BEGIN:VCALENDAR
VERSION:2.0
PRODID:-//walk4future® - REthink Fashion! - ECPv6.15.20//NONSGML v1.0//EN
CALSCALE:GREGORIAN
METHOD:PUBLISH
X-ORIGINAL-URL:https://walk4future.com
X-WR-CALDESC:Events for walk4future® - REthink Fashion!
REFRESH-INTERVAL;VALUE=DURATION:PT1H
X-Robots-Tag:noindex
X-PUBLISHED-TTL:PT1H
BEGIN:VTIMEZONE
TZID:Europe/Vienna
BEGIN:DAYLIGHT
TZOFFSETFROM:+0100
TZOFFSETTO:+0200
TZNAME:CEST
DTSTART:20250330T010000
END:DAYLIGHT
BEGIN:STANDARD
TZOFFSETFROM:+0200
TZOFFSETTO:+0100
TZNAME:CET
DTSTART:20251026T010000
END:STANDARD
BEGIN:DAYLIGHT
TZOFFSETFROM:+0100
TZOFFSETTO:+0200
TZNAME:CEST
DTSTART:20260329T010000
END:DAYLIGHT
BEGIN:STANDARD
TZOFFSETFROM:+0200
TZOFFSETTO:+0100
TZNAME:CET
DTSTART:20261025T010000
END:STANDARD
BEGIN:DAYLIGHT
TZOFFSETFROM:+0100
TZOFFSETTO:+0200
TZNAME:CEST
DTSTART:20270328T010000
END:DAYLIGHT
BEGIN:STANDARD
TZOFFSETFROM:+0200
TZOFFSETTO:+0100
TZNAME:CET
DTSTART:20271031T010000
END:STANDARD
END:VTIMEZONE
BEGIN:VEVENT
DTSTART;VALUE=DATE:20260322
DTEND;VALUE=DATE:20260323
DTSTAMP:20260425T041900
CREATED:20251211T145448Z
LAST-MODIFIED:20260318T082416Z
UID:8890-1774137600-1774223999@walk4future.com
SUMMARY:World Water Day
DESCRIPTION:World Water Day is an annual United Nations observance held on March 22 to raise awareness about the global water crisis and inspire action towards achieving sustainable water and sanitation for all by 2030 (Sustainable Development Goal 6) \nThe 2026 theme is “Save our Galciers” and even though it seems not directly connected to fashion\, we will certainly not miss the opportunity for some activities or awareness raising. \n“Saving the Galciers” means being aware of our human impact on the planet – be it where and how we move (emitting more or less toxins into the atmosphere)\, be it how much of the earths’ resources\, including water\, we use \nIt is all connected. \n 
URL:https://walk4future.com/event/world-water-day/
CATEGORIES:Community Walking,Intl. Events
END:VEVENT
END:VCALENDAR