BEGIN:VCALENDAR
VERSION:2.0
PRODID:-//walk4future® - REthink Fashion! - ECPv6.15.20//NONSGML v1.0//EN
CALSCALE:GREGORIAN
METHOD:PUBLISH
X-ORIGINAL-URL:https://walk4future.com
X-WR-CALDESC:Events for walk4future® - REthink Fashion!
REFRESH-INTERVAL;VALUE=DURATION:PT1H
X-Robots-Tag:noindex
X-PUBLISHED-TTL:PT1H
BEGIN:VTIMEZONE
TZID:Europe/Vienna
BEGIN:DAYLIGHT
TZOFFSETFROM:+0100
TZOFFSETTO:+0200
TZNAME:CEST
DTSTART:20250330T010000
END:DAYLIGHT
BEGIN:STANDARD
TZOFFSETFROM:+0200
TZOFFSETTO:+0100
TZNAME:CET
DTSTART:20251026T010000
END:STANDARD
BEGIN:DAYLIGHT
TZOFFSETFROM:+0100
TZOFFSETTO:+0200
TZNAME:CEST
DTSTART:20260329T010000
END:DAYLIGHT
BEGIN:STANDARD
TZOFFSETFROM:+0200
TZOFFSETTO:+0100
TZNAME:CET
DTSTART:20261025T010000
END:STANDARD
BEGIN:DAYLIGHT
TZOFFSETFROM:+0100
TZOFFSETTO:+0200
TZNAME:CEST
DTSTART:20270328T010000
END:DAYLIGHT
BEGIN:STANDARD
TZOFFSETFROM:+0200
TZOFFSETTO:+0100
TZNAME:CET
DTSTART:20271031T010000
END:STANDARD
END:VTIMEZONE
BEGIN:VEVENT
DTSTART;VALUE=DATE:20260605
DTEND;VALUE=DATE:20260606
DTSTAMP:20260425T053600
CREATED:20260208T113125Z
LAST-MODIFIED:20260208T113125Z
UID:9372-1780617600-1780703999@walk4future.com
SUMMARY:World Environment Day
DESCRIPTION:World Environment Day 2026 will rally the world around the urgency of climate action. With rising temperatures\, collapsing ecosystems\, and disruptive weather extremes\, humanity stands at a tipping point. But we are not powerless. \nThe 2026 theme underscores that climate action is not just about reducing carbon emissions—it is about rethinking the systems that power our economies and repairing our relationship with the climate. By doing so\, we can secure a safer\, healthier\, and more just future for all. \nThis is also what connects walk4future® – REthink Fashion to this special day: we are all about systems change. Stay tuned for our collective actions to honor this day.  \n 
URL:https://walk4future.com/event/world-environment-day/
CATEGORIES:Community Walking,Intl. Events
END:VEVENT
END:VCALENDAR