BEGIN:VCALENDAR
VERSION:2.0
PRODID:-//walk4future® - REthink Fashion! - ECPv6.15.20//NONSGML v1.0//EN
CALSCALE:GREGORIAN
METHOD:PUBLISH
X-ORIGINAL-URL:https://walk4future.com
X-WR-CALDESC:Events for walk4future® - REthink Fashion!
REFRESH-INTERVAL;VALUE=DURATION:PT1H
X-Robots-Tag:noindex
X-PUBLISHED-TTL:PT1H
BEGIN:VTIMEZONE
TZID:Europe/Vienna
BEGIN:DAYLIGHT
TZOFFSETFROM:+0100
TZOFFSETTO:+0200
TZNAME:CEST
DTSTART:20250330T010000
END:DAYLIGHT
BEGIN:STANDARD
TZOFFSETFROM:+0200
TZOFFSETTO:+0100
TZNAME:CET
DTSTART:20251026T010000
END:STANDARD
BEGIN:DAYLIGHT
TZOFFSETFROM:+0100
TZOFFSETTO:+0200
TZNAME:CEST
DTSTART:20260329T010000
END:DAYLIGHT
BEGIN:STANDARD
TZOFFSETFROM:+0200
TZOFFSETTO:+0100
TZNAME:CET
DTSTART:20261025T010000
END:STANDARD
BEGIN:DAYLIGHT
TZOFFSETFROM:+0100
TZOFFSETTO:+0200
TZNAME:CEST
DTSTART:20270328T010000
END:DAYLIGHT
BEGIN:STANDARD
TZOFFSETFROM:+0200
TZOFFSETTO:+0100
TZNAME:CET
DTSTART:20271031T010000
END:STANDARD
END:VTIMEZONE
BEGIN:VEVENT
DTSTART;VALUE=DATE:20260126
DTEND;VALUE=DATE:20260127
DTSTAMP:20260425T054707
CREATED:20251211T143639Z
LAST-MODIFIED:20251211T143639Z
UID:8886-1769385600-1769471999@walk4future.com
SUMMARY:World Environmental Education Day
DESCRIPTION:World Environmental Education Day is celebrated annually on January 26th\, a global observance focused on fostering environmental awareness\, knowledge\, and action to build sustainable societies\, stemming from principles outlined in the 1972 Stockholm Conference and the 1975 Belgrade Charter\, promoting critical thinking about our planet’s challenges and encouraging active participation in solutions.  \nwalk4future will not organize any specific events for that day\, but we are available for workshops and talks on the subject matter of fashion & environment.
URL:https://walk4future.com/event/world-environmental-education-day/
CATEGORIES:Intl. Events
END:VEVENT
END:VCALENDAR