BEGIN:VCALENDAR
VERSION:2.0
PRODID:-//walk4future® - REthink Fashion! - ECPv6.15.20//NONSGML v1.0//EN
CALSCALE:GREGORIAN
METHOD:PUBLISH
X-WR-CALNAME:walk4future® - REthink Fashion!
X-ORIGINAL-URL:https://walk4future.com/de
X-WR-CALDESC:Veranstaltungen für walk4future® - REthink Fashion!
REFRESH-INTERVAL;VALUE=DURATION:PT1H
X-Robots-Tag:noindex
X-PUBLISHED-TTL:PT1H
BEGIN:VTIMEZONE
TZID:Europe/Vienna
BEGIN:DAYLIGHT
TZOFFSETFROM:+0100
TZOFFSETTO:+0200
TZNAME:CEST
DTSTART:20250330T010000
END:DAYLIGHT
BEGIN:STANDARD
TZOFFSETFROM:+0200
TZOFFSETTO:+0100
TZNAME:CET
DTSTART:20251026T010000
END:STANDARD
BEGIN:DAYLIGHT
TZOFFSETFROM:+0100
TZOFFSETTO:+0200
TZNAME:CEST
DTSTART:20260329T010000
END:DAYLIGHT
BEGIN:STANDARD
TZOFFSETFROM:+0200
TZOFFSETTO:+0100
TZNAME:CET
DTSTART:20261025T010000
END:STANDARD
BEGIN:DAYLIGHT
TZOFFSETFROM:+0100
TZOFFSETTO:+0200
TZNAME:CEST
DTSTART:20270328T010000
END:DAYLIGHT
BEGIN:STANDARD
TZOFFSETFROM:+0200
TZOFFSETTO:+0100
TZNAME:CET
DTSTART:20271031T010000
END:STANDARD
END:VTIMEZONE
BEGIN:VEVENT
DTSTART;VALUE=DATE:20260301
DTEND;VALUE=DATE:20270101
DTSTAMP:20260425T193927
CREATED:20251211T102720Z
LAST-MODIFIED:20260227T215151Z
UID:8006-1772323200-1798761599@walk4future.com
SUMMARY:#walk&change Challenge 2026
DESCRIPTION:The motto 2026 is: Let’s move 1 Million Euros away from Fast fashion to better brands and small shops AND walk around the world together.\nWe want to set ambitious goals that can be reached TOGETHER. Think about it: \n\nIf only 2500 people would join and save an average of €400 until the end of the year on fast fashion buys\, we would have 1 Million € saved. It sounds much\, but it’s all in the numbers.\nWe have walked nearly 10.000km as a single person and then small community in 4 months during the first two years. If we grow and everyone walks just a little bit more\, we can walk around the world.\n\nAlone we might be powerless\, but together we can move the system.\nWe are living in a world of over-consumption. It hurts our planet\, but it ultimately hurts ourselves: \n\nbad production methods hurt the people who are producing our clothing and destroy their living environments\nbad production quality make us wear chemicals\, thus destroy our health and make clothing last less\nbad production materials turn to never disappearing waste in landfills\n\nWe can change all this by changing the way we buy fashion.\n\nwith more mindfulness for what we want and need\nwith more mindfulness for how we express our values\nwith consciously turning to small shops in our neighbourhood and better brands\n\nWhy WALKING?\n\nWalking is our tool to develop mindfulness.\nWalking is the easiest way to integrate mind and body.\nwalking is the best way to discover your immediate environment\, your neighbourhood and connect with it in a mindful way.\n\n\n\n\n\n\n\n\n\n\n\n\n\n\n\n\nHow are we going to do that?\n1. We use WALKING as a tool\nto gain more self-awareness\, about our needs\, wishes and what aóur place ion the world is. \nWe walk more by leaving the car (or e-bikes & scooters) behind\, to discover our world\, our cities\, our neighbourhoods and connect with what we have HERE. \nWe track our steps in our personal challenge dashboards. \n2. We make conscious BUYING decisions\nWe combine the conscious movement of walking with conscious buying decisions. What we save by not consciously not spending on unhealthy\, low quality clothing we track in our personal challenge dashboards. \n3. Collective power\nWe publish the collective results of our new behavior. Because this is\, what it is: when we do things differently\, we will have different results. \n4. Keep motivated!\nTo help you keep your motivation high\, we will come up with something each month to reward the participants who track their steps and their savings regularly. Be it sustainable products or special events. We even think of online meetings once per month to come together for chatter and exchange. \nIf you don’t know whether this works for you\, check out our prep-course with simple but effective exercises. And when you are ready to join the change-squad\, register for the challenge! \nRegistration is open throughout the year. Whenever you join\, that’s the moment you’ll contribute to change!!
URL:https://walk4future.com/de/event/walkchange-challenge-2026/
LOCATION:Worldwide
CATEGORIES:Challenge
ATTACH;FMTTYPE=image/png:https://walk4future.com/wp-content/uploads/2026/02/walkandchange_March.png
ORGANIZER;CN="The Personality Institute by Martina Gleissenebner-Teskey e.U.":MAILTO:admin@martina-gleissenebner-teskey.com
END:VEVENT
BEGIN:VEVENT
DTSTART;VALUE=DATE:20260420
DTEND;VALUE=DATE:20260428
DTSTAMP:20260425T193927
CREATED:20251209T142916Z
LAST-MODIFIED:20260208T111749Z
UID:8829-1776643200-1777334399@walk4future.com
SUMMARY:WALK IN STYLE Spring Week
DESCRIPTION:20 – 27 April will be a week dedicated to self-expression through walking and conscious styling. In that week\, there are a few important international and national dates that we want to build our activities around: \n\nApril 22: Earth Day\nApril 24: Fashion Revolution Day\nApril 27: International Walking Day\n\nAll three dates have one common theme: building awareness\, for how we treat our world\, the people and ourselves\, respectively. “Treating something/someone” is an action which very often happens automatically. Only if we turn this automatic action into a conscious action\, we can change the way we express ouselves and with it\, how we treat ourselves\, the people and the world as such. \nIt all starts with us\, individually. There is no faceless mob that dos something to the world\, to the people\, to us. It’s always only us. Only if we evolve into more consciousness\, we will see the positive changes in this world. \nHow we walk and how we present ourselves through the styles we choose are the most important ways of self-expression. \nYou are getting curious now? Mark your calendar and Register for updates!
URL:https://walk4future.com/de/event/walk-in-style-spring-week/
LOCATION:Worldwide
CATEGORIES:Walk'n Shop Tours
ORGANIZER;CN="The Personality Institute by Martina Gleissenebner-Teskey e.U.":MAILTO:admin@martina-gleissenebner-teskey.com
END:VEVENT
BEGIN:VEVENT
DTSTART;VALUE=DATE:20260427
DTEND;VALUE=DATE:20260428
DTSTAMP:20260425T193927
CREATED:20251211T152123Z
LAST-MODIFIED:20260403T123957Z
UID:8898-1777248000-1777334399@walk4future.com
SUMMARY:Intl. Walking Day
DESCRIPTION:In course of the launch of the UN-Decade of Sustainable Transport\, this inititaive\, dedicated to walking\, has been presented by representatives of the Austrian Government and has been accepted. There will be many initiatives in Austria around this day and hopefully beyond. \nCheck out: Österreich zu Fuß for more Info.
URL:https://walk4future.com/de/event/intl-walking-day/
CATEGORIES:Community Walking,Intl. Events
END:VEVENT
BEGIN:VEVENT
DTSTART;TZID=Europe/Vienna:20260513T140000
DTEND;TZID=Europe/Vienna:20260513T180000
DTSTAMP:20260425T193927
CREATED:20260130T122636Z
LAST-MODIFIED:20260317T164330Z
UID:9228-1778680800-1778695200@walk4future.com
SUMMARY:VIENNA STYLE WALK - Eurovision Remix
DESCRIPTION:(This event is managed by the ESC Vienna organizers and therefore not bookable via walk4future.com. In case we get tickets for distribution\, we will add a link here.) \nWhat has the ESC to do with style?\nWell\, quite everything. It’s not only the songs that bring the flair and vibe of the contributing nations to the stage\, but also the styles that make the ESC what it is: colourful\, cheeky\, eccentric\, proud\, ridiculous\, surreal\, political\, freaky\, celebratory\, sexy\,… \nAnd as we know\, Vienna is always good for suprises under its understatement-cover. 😉 Everyone knows Viennese music\, the palaces\, and the Viennese cake\, but there is also the queer Vienna\, humorous Vienna\, and the creative\, new Vienna that flourishes in the least expected corners of the city. \nIn short: we are inviting you on a very different Style Tour through Vienna\, with three very different guides:\nGermany’s Next Topmodel 2022 Winner and international model\, Lou-Anne Gleissenebner\, Viennas’ most renown storytelling walker\, Eugene Quinn\, and fair fashion rebel\, author and GNTM’s first Best Ager finalist\, Martina Gleissenebner-Teskey will guide you into Viennas’ hidden style and fashion corners. \nEugene\, who has launched his now world famous “Vienna Ugly” tour in 2015\, exactly when the ESC had been in Vienna\, is a guarantee for new discoveries not even most of the Viennese would know. Lou-Anne represents the young\, cosmopolitan generation that has their very distinctive – and sometimes dismissive – point of view on all things the older generations created. And Martina is the expert when it comes to the small special labels and shops that are the future of fashion – in her view. 😉 \nThe three of them alone\, could start a fiery discussion over what’s style or not – but in a true Eurovision spirit they will reconcile their differences and make them into something unique you will always remember: uncover lesser-known city- & fashion – treasures\, chat with producers\, and even find a special piece or two – and most importantly: go home with new friends. \nThis is part of a series of tours\, celebrating local production and creativity. \n(This event is managed by the ESC Vienna organizers and therefore not bookable via walk4future.com. In case we get tickets for distribution\, we will add a link here.) \n 
URL:https://walk4future.com/de/event/vienna-style-walk-eurovision-remix/
LOCATION:Vienna\, Austria
CATEGORIES:Walk'n Shop Tours
ATTACH;FMTTYPE=image/png:https://walk4future.com/wp-content/uploads/2026/01/ESC-Vienna-Style-Walk-remix_Banner.png
END:VEVENT
BEGIN:VEVENT
DTSTART;TZID=Europe/Vienna:20260529T090000
DTEND;TZID=Europe/Vienna:20260529T180000
DTSTAMP:20260425T193927
CREATED:20260402T085322Z
LAST-MODIFIED:20260402T085455Z
UID:9825-1780045200-1780077600@walk4future.com
SUMMARY:YOUTH SPEAK FORUM '26
DESCRIPTION:We are happy being part of the biggest youth event of the year taking place in Vienna: The YOUTH SPEAK FORUM ’26 \nWhy you should be part of it: \nIn collaboration with the United Nations Industrial Development Organization and AIESEC in Austria the Youth Speak Forum 2026 brings together ambitious young leaders\, industry experts and decision-makers to shape solutions for sustainable innovation and real impact. \nThis is your chance to:\n✨ Voice your ideas\n🤝 Connect with leaders and like-minded changemakers from different industries\n💡 Turn conversations into opportunities through panels and workshops \nStep into the room\, speak up and drive impact\, this is your moment.\nSecure your spot now: Registration via Eventbrite \nAfter the UN-Event we will move to weXelerate for the big sustainable Fashion Show (more info to come)
URL:https://walk4future.com/de/event/youth-speak-forum-26/
LOCATION:Internationales Zentrum Wien\, Wagramer Straße 5\, Vienna\, 1020\, Austria
CATEGORIES:Intl. Events
ATTACH;FMTTYPE=image/png:https://walk4future.com/wp-content/uploads/2026/04/YSF-Banner.png
END:VEVENT
BEGIN:VEVENT
DTSTART;VALUE=DATE:20260605
DTEND;VALUE=DATE:20260606
DTSTAMP:20260425T193927
CREATED:20260208T113125Z
LAST-MODIFIED:20260208T113125Z
UID:9372-1780617600-1780703999@walk4future.com
SUMMARY:World Environment Day
DESCRIPTION:World Environment Day 2026 will rally the world around the urgency of climate action. With rising temperatures\, collapsing ecosystems\, and disruptive weather extremes\, humanity stands at a tipping point. But we are not powerless. \nThe 2026 theme underscores that climate action is not just about reducing carbon emissions—it is about rethinking the systems that power our economies and repairing our relationship with the climate. By doing so\, we can secure a safer\, healthier\, and more just future for all. \nThis is also what connects walk4future® – REthink Fashion to this special day: we are all about systems change. Stay tuned for our collective actions to honor this day.  \n 
URL:https://walk4future.com/de/event/world-environment-day/
CATEGORIES:Community Walking,Intl. Events
END:VEVENT
BEGIN:VEVENT
DTSTART;TZID=Europe/Vienna:20260912T140000
DTEND;TZID=Europe/Vienna:20260912T180000
DTSTAMP:20260425T193927
CREATED:20251210T193428Z
LAST-MODIFIED:20260208T111653Z
UID:7813-1789221600-1789236000@walk4future.com
SUMMARY:VIENNA STYLE WALK - Secondhand Edition
DESCRIPTION:This special Secondhand edition of our WALK’N SHOP TOURS will lead you through the streets of selected cities\, guided by our Slow Fashion Ambassadors\, visiting a selection of the best curated Secondhand Shops while meeting new people and enjoying time together. \nAs with all Vienna Sytle Walks\, also this is guided by your trustet couple of city- & fashion connaisseurs: \n\nEugene Quinn: turbo walker and leader of WHOOSH VIENNA\, amonsgt others organizing the Ugly Tours in Vienna and Munich\, dinners that connect refugees with locals (Magdas Social Dinners)\, the Oe1 radio show #HowtobeAustrian\, and Jungerer Seestadt\, where children in Aspern act as guides for adults. Eugene also DJs at Vienna’s funkiest parties\, and his Walking Week is an attempt to rethink travel\, creating #tourismforlocals. His work features in New York Times\, BBC\, Guardian\, AFP\, Zeit & USA Today.\nMartina Gleissenebner-Teskey: founder of walk4future\, speaker\, coach and author\, and first finalist over 50 in Germany’s Next Topmodel.\n\nTogether with us\, you will explore all the beauties you’ll usually miss\, discuss with shop owners if you wish or just be inspired. There is no need to buy\, unless of course\, you want ;-). \nImportant: the shops do not pay in order to be included in the walk\, nor do we get any commission if you buy something. \nCost: \n\nRegular €25\,-\nParticipants of the walk&save challenge in September get 20% off the price !\n\nRegister for updates to not miss it! \n 
URL:https://walk4future.com/de/event/vienna-style-walk-secondhand-edition/
LOCATION:Vienna\, Austria
CATEGORIES:Walk'n Shop Tours
ORGANIZER;CN="The Personality Institute by Martina Gleissenebner-Teskey e.U.":MAILTO:admin@martina-gleissenebner-teskey.com
END:VEVENT
BEGIN:VEVENT
DTSTART;TZID=Europe/Vienna:20260926T103000
DTEND;TZID=Europe/Vienna:20260926T130000
DTSTAMP:20260425T193927
CREATED:20251210T083119Z
LAST-MODIFIED:20260208T112456Z
UID:7728-1790418600-1790427600@walk4future.com
SUMMARY:Vienna Climate Run
DESCRIPTION:Walk4future has already been a partner at the very first Vienna Climate Run in 2025 – and we will again partner in 2026. And this time we’ll maybe even get our own walker’s lane! Mark your calendars and stay tuned! \n 
URL:https://walk4future.com/de/event/vienna-climate-run/
LOCATION:Prater Hauptallee\, Prater Hauptallee\, Vienna\, Vienna\, 1020\, Austria
CATEGORIES:Community Walking
ATTACH;FMTTYPE=image/png:https://walk4future.com/wp-content/uploads/2025/08/SOL_VCR-Logo-Hintergrund-V2.png
ORGANIZER;CN="panSol - Klimaschutz %3A Energie %3A Umwelt":MAILTO:viennaclimaterun@nachhaltig.at
END:VEVENT
BEGIN:VEVENT
DTSTART;TZID=Europe/Vienna:20261031T140000
DTEND;TZID=Europe/Vienna:20261031T180000
DTSTAMP:20260425T193927
CREATED:20251209T153152Z
LAST-MODIFIED:20260208T111624Z
UID:8839-1793455200-1793469600@walk4future.com
SUMMARY:VIENNA STYLE WALK - World Cities Edition
DESCRIPTION:On World Cities Day we will again walk a specially drafted route and find special shops that have been selected because of their exceptional offer. You won’t find those shops easily unless you know them or you do the research. And you won’t very easily find the routes we have prepared for you. \nWho are “we”?\n\nEugene Quinn: turbo walker and leader of WHOOSH VIENNA\, amonsgt others organizing the Ugly Tours in Vienna and Munich\, dinners that connect refugees with locals (Magdas Social Dinners)\, the Oe1 radio show #HowtobeAustrian\, and Jungerer Seestadt\, where children in Aspern act as guides for adults. Eugene also DJs at Vienna’s funkiest parties\, and his Walking Week is an attempt to rethink travel\, creating #tourismforlocals. His work features in New York Times\, BBC\, Guardian\, AFP\, Zeit & USA Today.\nMartina Gleissenebner-Teskey: founder of walk4future\, speaker\, coach and author\, and first finalist over 50 in Germany’s Next Topmodel.\n\nTogether with us\, you will explore all the beauties you’ll usually miss\, discuss with shop owners if you wish or just be inspired. There is no need to buy\, unless of course\, you want ;-). \nImportant: the shops do not pay in order to be included in the walk\, nor do we get any commission if you buy something. \nCost: \n\nRegular €25\,-\nParticipants of the walk&save challenge in September get 20% off the price !\n\nRegister for updates to not miss it!
URL:https://walk4future.com/de/event/vienna-style-walk-world-cities-edition/
LOCATION:Vienna\, Austria
CATEGORIES:Walk'n Shop Tours
ORGANIZER;CN="Whoosh Wien":MAILTO:hello@whoosh.wien
END:VEVENT
BEGIN:VEVENT
DTSTART;TZID=Europe/Vienna:20261205T120000
DTEND;TZID=Europe/Vienna:20261205T160000
DTSTAMP:20260425T193927
CREATED:20260109T104458Z
LAST-MODIFIED:20260208T111616Z
UID:9012-1796472000-1796486400@walk4future.com
SUMMARY:VIENNA STYLE WALK - Party Edition
DESCRIPTION:It’s the festive season and Vienna is known to offer the best Christmas strolls of the world! So join us on this special occasion and get inspired in those shops you might never get to know without us. \nWho are “us”?\n\nEugene Quinn: turbo walker and leader of WHOOSH VIENNA\, amonsgt others organizing the Ugly Tours in Vienna and Munich\, dinners that connect refugees with locals (Magdas Social Dinners)\, the Oe1 radio show #HowtobeAustrian\, and Jungerer Seestadt\, where children in Aspern act as guides for adults. Eugene also DJs at Vienna’s funkiest parties\, and his Walking Week is an attempt to rethink travel\, creating #tourismforlocals. His work features in New York Times\, BBC\, Guardian\, AFP\, Zeit & USA Today.\nMartina Gleissenebner-Teskey: founder of walk4future\, speaker\, coach and author\, and first finalist over 50 in Germany’s Next Topmodel.\n\nTogether with us\, you will explore all the beauties you’ll usually miss\, discuss with shop owners if you wish or just be inspired. There is no need to buy\, unless of course\, you want ;-). \nImportant: the shops do not pay in order to be included in the walk\, nor do we get any commission if you buy something. \nCost: \n\nRegular €25\,-\nParticipants of the walk&save challenge in September get 20% off the price !\n\nRegister for updates to not miss it!
URL:https://walk4future.com/de/event/vienna-style-walk-party-edition/
LOCATION:Vienna\, Austria
CATEGORIES:Walk'n Shop Tours
ORGANIZER;CN="The Personality Institute by Martina Gleissenebner-Teskey e.U.":MAILTO:admin@martina-gleissenebner-teskey.com
END:VEVENT
END:VCALENDAR